BEGIN:VCALENDAR
VERSION:2.0
PRODID:-//The almost everything magazine - ECPv6.15.20//NONSGML v1.0//EN
CALSCALE:GREGORIAN
METHOD:PUBLISH
X-WR-CALNAME:The almost everything magazine
X-ORIGINAL-URL:https://inscapism.co.uk
X-WR-CALDESC:Events for The almost everything magazine
REFRESH-INTERVAL;VALUE=DURATION:PT1H
X-Robots-Tag:noindex
X-PUBLISHED-TTL:PT1H
BEGIN:VTIMEZONE
TZID:UTC
BEGIN:STANDARD
TZOFFSETFROM:+0000
TZOFFSETTO:+0000
TZNAME:UTC
DTSTART:20240101T000000
END:STANDARD
END:VTIMEZONE
BEGIN:VEVENT
DTSTART;TZID=UTC:20250205T120000
DTEND;TZID=UTC:20250205T120000
DTSTAMP:20260424T082634
CREATED:20250205T122549Z
LAST-MODIFIED:20250205T122557Z
UID:1607-1738756800-1738756800@inscapism.co.uk
SUMMARY:LGBTQ+ event
DESCRIPTION:sexual diversity at its finest
URL:https://inscapism.co.uk/event/lgbtq-event/
END:VEVENT
BEGIN:VEVENT
DTSTART;TZID=UTC:20250212T080000
DTEND;TZID=UTC:20250212T170000
DTSTAMP:20260424T082634
CREATED:20250108T122354Z
LAST-MODIFIED:20250108T122357Z
UID:1522-1739347200-1739379600@inscapism.co.uk
SUMMARY:Edition 5
DESCRIPTION:Watch out for our new issue!!
URL:https://inscapism.co.uk/event/edition-5/
END:VEVENT
BEGIN:VEVENT
DTSTART;TZID=UTC:20250212T130000
DTEND;TZID=UTC:20250212T150000
DTSTAMP:20260424T082634
CREATED:20250205T122855Z
LAST-MODIFIED:20250205T122856Z
UID:1609-1739365200-1739372400@inscapism.co.uk
SUMMARY:Internet Safety
DESCRIPTION:ICT internet safety special (plus AI)
URL:https://inscapism.co.uk/event/internet-safety/
END:VEVENT
END:VCALENDAR