BEGIN:VCALENDAR
VERSION:2.0
PRODID:-//The almost everything magazine - ECPv6.15.20//NONSGML v1.0//EN
CALSCALE:GREGORIAN
METHOD:PUBLISH
X-ORIGINAL-URL:https://inscapism.co.uk
X-WR-CALDESC:Events for The almost everything magazine
REFRESH-INTERVAL;VALUE=DURATION:PT1H
X-Robots-Tag:noindex
X-PUBLISHED-TTL:PT1H
BEGIN:VTIMEZONE
TZID:UTC
BEGIN:STANDARD
TZOFFSETFROM:+0000
TZOFFSETTO:+0000
TZNAME:UTC
DTSTART:20250101T000000
END:STANDARD
END:VTIMEZONE
BEGIN:VEVENT
DTSTART;TZID=UTC:20260420T123000
DTEND;TZID=UTC:20260420T133000
DTSTAMP:20260422T220719
CREATED:20260413T102619Z
LAST-MODIFIED:20260413T102620Z
UID:1926-1776688200-1776691800@inscapism.co.uk
SUMMARY:Café days for students
DESCRIPTION:today you can get stuff from the cafe!
URL:https://inscapism.co.uk/event/cafe-days-for-students/
END:VEVENT
BEGIN:VEVENT
DTSTART;TZID=UTC:20260422T090000
DTEND;TZID=UTC:20260422T230000
DTSTAMP:20260422T220719
CREATED:20260420T102952Z
LAST-MODIFIED:20260420T102955Z
UID:1944-1776848400-1776898800@inscapism.co.uk
SUMMARY:World Earth Day
DESCRIPTION:an annual\, nation-wide observation on April 22nd that unites individuals\, businesses\, and schools in environmental action\, focusing on climate change\, sustainability\, and conservation. See the image below for more information.
URL:https://inscapism.co.uk/event/world-earth-day/
ATTACH;FMTTYPE=image/jpeg:https://inscapism.co.uk/wp-content/uploads/2026/04/EARTH-DAY-MENU-Schools_page-0001.jpg
END:VEVENT
BEGIN:VEVENT
DTSTART;TZID=UTC:20260423T150000
DTEND;TZID=UTC:20260423T163000
DTSTAMP:20260422T220719
CREATED:20260420T103358Z
LAST-MODIFIED:20260420T103359Z
UID:1949-1776956400-1776961800@inscapism.co.uk
SUMMARY:Options day for year 9
DESCRIPTION:Parents and pupils are invited to come in after school to help them choose options they wanted to study in year 9
URL:https://inscapism.co.uk/event/options-day-for-year-9/
END:VEVENT
END:VCALENDAR