BEGIN:VCALENDAR
VERSION:2.0
PRODID:-//The almost everything magazine - ECPv6.15.20//NONSGML v1.0//EN
CALSCALE:GREGORIAN
METHOD:PUBLISH
X-ORIGINAL-URL:https://inscapism.co.uk
X-WR-CALDESC:Events for The almost everything magazine
REFRESH-INTERVAL;VALUE=DURATION:PT1H
X-Robots-Tag:noindex
X-PUBLISHED-TTL:PT1H
BEGIN:VTIMEZONE
TZID:UTC
BEGIN:STANDARD
TZOFFSETFROM:+0000
TZOFFSETTO:+0000
TZNAME:UTC
DTSTART:20240101T000000
END:STANDARD
END:VTIMEZONE
BEGIN:VEVENT
DTSTART;TZID=UTC:20250404T130000
DTEND;TZID=UTC:20250404T150000
DTSTAMP:20260422T121714
CREATED:20250326T113507Z
LAST-MODIFIED:20250326T122836Z
UID:1659-1743771600-1743778800@inscapism.co.uk
SUMMARY:Inscapes got talent
DESCRIPTION:Students showing off what they know or can do!!
URL:https://inscapism.co.uk/event/inscapes-got-talent/
LOCATION:Inscape house school hall\, The Together Trust\, Cheadle\, SK8 1JE\, United Kingdom
END:VEVENT
END:VCALENDAR