BEGIN:VCALENDAR
VERSION:2.0
PRODID:-//The almost everything magazine - ECPv6.15.20//NONSGML v1.0//EN
CALSCALE:GREGORIAN
METHOD:PUBLISH
X-ORIGINAL-URL:https://inscapism.co.uk
X-WR-CALDESC:Events for The almost everything magazine
REFRESH-INTERVAL;VALUE=DURATION:PT1H
X-Robots-Tag:noindex
X-PUBLISHED-TTL:PT1H
BEGIN:VTIMEZONE
TZID:UTC
BEGIN:STANDARD
TZOFFSETFROM:+0000
TZOFFSETTO:+0000
TZNAME:UTC
DTSTART:20240101T000000
END:STANDARD
END:VTIMEZONE
BEGIN:VEVENT
DTSTART;TZID=UTC:20250129T080000
DTEND;TZID=UTC:20250129T170000
DTSTAMP:20260424T112213
CREATED:20250129T111516Z
LAST-MODIFIED:20250129T111519Z
UID:1604-1738137600-1738170000@inscapism.co.uk
SUMMARY:Holocaust Memorial Day
DESCRIPTION:6 million people died to one man (hitler) lest we forget what he did
URL:https://inscapism.co.uk/event/holocaust-memorial-day/
END:VEVENT
END:VCALENDAR