BEGIN:VCALENDAR
VERSION:2.0
PRODID:-//The almost everything magazine - ECPv6.15.20//NONSGML v1.0//EN
CALSCALE:GREGORIAN
METHOD:PUBLISH
X-ORIGINAL-URL:https://inscapism.co.uk
X-WR-CALDESC:Events for The almost everything magazine
REFRESH-INTERVAL;VALUE=DURATION:PT1H
X-Robots-Tag:noindex
X-PUBLISHED-TTL:PT1H
BEGIN:VTIMEZONE
TZID:UTC
BEGIN:STANDARD
TZOFFSETFROM:+0000
TZOFFSETTO:+0000
TZNAME:UTC
DTSTART:20240101T000000
END:STANDARD
END:VTIMEZONE
BEGIN:VEVENT
DTSTART;TZID=UTC:20250101T060000
DTEND;TZID=UTC:20250101T200000
DTSTAMP:20260424T112657
CREATED:20241204T113710Z
LAST-MODIFIED:20241204T113712Z
UID:1233-1735711200-1735761600@inscapism.co.uk
SUMMARY:New years day
DESCRIPTION:2025 is here…
URL:https://inscapism.co.uk/event/new-years-day/
END:VEVENT
END:VCALENDAR